BEGIN:VCALENDAR
VERSION:2.0
PRODID:-//Acme Widgets\, Inc.//NONSGML ExportToCalendar//EN
CALSCALE:GREGORIAN
BEGIN:VEVENT
DTSTAMP:20260423T121604Z
UID:a8f33d4e-8e87-4d0b-82b6-98784fce12bf
DTSTART:20260426T120500
DTEND:20260426T122000
DESCRIPTION:Inspection for 4 Letsom Way\, LANGFORD WA 6147
LOCATION:4 Letsom Way\, LANGFORD WA 6147
SUMMARY:4 Letsom Way\, LANGFORD WA 6147
END:VEVENT
END:VCALENDAR
