BEGIN:VCALENDAR
VERSION:2.0
PRODID:-//Acme Widgets\, Inc.//NONSGML ExportToCalendar//EN
CALSCALE:GREGORIAN
BEGIN:VEVENT
DTSTAMP:20260424T125804Z
UID:8441834a-d372-4c34-8e83-2b41f393f66c
DTSTART:20260428T173000
DTEND:20260428T174500
DESCRIPTION:Inspection for 4 Tantini Close\, PARKWOOD WA 6147
LOCATION:4 Tantini Close\, PARKWOOD WA 6147
SUMMARY:4 Tantini Close\, PARKWOOD WA 6147
END:VEVENT
END:VCALENDAR
