BEGIN:VCALENDAR
VERSION:2.0
PRODID:-//Acme Widgets\, Inc.//NONSGML ExportToCalendar//EN
CALSCALE:GREGORIAN
BEGIN:VEVENT
DTSTAMP:20260423T122609Z
UID:63020f3f-3e70-4700-81fb-7c8e692f8b0b
DTSTART:20260426T120000
DTEND:20260426T123000
DESCRIPTION:Inspection for 60 Daly Circle\, LANGFORD WA 6147
LOCATION:60 Daly Circle\, LANGFORD WA 6147
SUMMARY:60 Daly Circle\, LANGFORD WA 6147
END:VEVENT
END:VCALENDAR
