BEGIN:VCALENDAR
VERSION:2.0
PRODID:-//Acme Widgets\, Inc.//NONSGML ExportToCalendar//EN
CALSCALE:GREGORIAN
BEGIN:VEVENT
DTSTAMP:20260423T121835Z
UID:8db5018f-3d43-434c-b3ea-068d7d99fd2d
DTSTART:20260426T114500
DTEND:20260426T120000
DESCRIPTION:Inspection for 4A Letsom\, LANGFORD WA 6147
LOCATION:4A Letsom\, LANGFORD WA 6147
SUMMARY:4A Letsom\, LANGFORD WA 6147
END:VEVENT
END:VCALENDAR
