BEGIN:VCALENDAR
VERSION:2.0
PRODID:-//Acme Widgets\, Inc.//NONSGML ExportToCalendar//EN
CALSCALE:GREGORIAN
BEGIN:VEVENT
DTSTAMP:20260424T131125Z
UID:e150ad69-53b0-4058-bcca-c0321c950104
DTSTART:20260426T113000
DTEND:20260426T114500
DESCRIPTION:Inspection for 10 Compass Circle\, YANCHEP WA 6035
LOCATION:10 Compass Circle\, YANCHEP WA 6035
SUMMARY:10 Compass Circle\, YANCHEP WA 6035
END:VEVENT
END:VCALENDAR
