BEGIN:VCALENDAR
VERSION:2.0
PRODID:-//Acme Widgets\, Inc.//NONSGML ExportToCalendar//EN
CALSCALE:GREGORIAN
BEGIN:VEVENT
DTSTAMP:20260423T122332Z
UID:242d1348-6bda-49f8-a7cd-71ebe5b497c5
DTSTART:20260426T133000
DTEND:20260426T134500
DESCRIPTION:Inspection for 371 Metcalfe Road\, PARKWOOD WA 6147
LOCATION:371 Metcalfe Road\, PARKWOOD WA 6147
SUMMARY:371 Metcalfe Road\, PARKWOOD WA 6147
END:VEVENT
END:VCALENDAR
