BEGIN:VCALENDAR
VERSION:2.0
PRODID:-//Acme Widgets\, Inc.//NONSGML ExportToCalendar//EN
CALSCALE:GREGORIAN
BEGIN:VEVENT
DTSTAMP:20260423T122702Z
UID:1c5f3c6b-1a0b-46c7-b038-359967d56c4b
DTSTART:20260426T112000
DTEND:20260426T113500
DESCRIPTION:Inspection for 21 Westbourne Way\, LYNWOOD WA 6147
LOCATION:21 Westbourne Way\, LYNWOOD WA 6147
SUMMARY:21 Westbourne Way\, LYNWOOD WA 6147
END:VEVENT
END:VCALENDAR
