BEGIN:VCALENDAR
VERSION:2.0
PRODID:-//Acme Widgets\, Inc.//NONSGML ExportToCalendar//EN
CALSCALE:GREGORIAN
BEGIN:VEVENT
DTSTAMP:20260423T122154Z
UID:38f20a94-cbe6-431a-aec6-a2a4ca71e0d9
DTSTART:20260425T150000
DTEND:20260425T153000
DESCRIPTION:Inspection for 7 / 21 Holton Way\, CANNINGTON WA 6107
LOCATION:7 / 21 Holton Way\, CANNINGTON WA 6107
SUMMARY:7 / 21 Holton Way\, CANNINGTON WA 6107
END:VEVENT
END:VCALENDAR
